BEGIN:VCALENDAR
VERSION:2.0
PRODID:-//eventon.com NONSGML v1.0//EN
CALSCALE:GREGORIAN
METHOD:PUBLISH
BEGIN:VEVENT
UID:69ea43e6ed20c
DTSTAMP:20260423T160806Z
DTSTART:20250606T215900Z
DTEND:20250607T060000Z
LOCATION:
SUMMARY:🌊🏝️ Cruisin’ 25 · Beach Party
DESCRIPTION:🌈 The queer community takes over KAISERBRÜNDL for PRIDE! 
 🌈 The well-known team of CAFÉ SAVOY\,  KAISERBRÜNDL &amp; RÖMERSAUNA
  – a cornerstone of the 🏳️‍🌈LGBTIQ+ community🏳️‍🌈 
 – proudly presents PRIDE VOYAGE („vojaaaaasch“)\,  a series of uniq
 ue queer events you won’t want to miss. 🚢 Attention\,  river cruisers
  &amp; night owls! The AFTER PARTY at KAISERBRÜNDL is where frozen so
 uls heat up in the sauna[..]\nhttps://kaiserbruendl.at/events/cruisin-25-%c
 2%b7-beach-party-the-queer-afterparty-at-kaiserbruendl/
URL:https://kaiserbruendl.at/events/cruisin-25-%c2%b7-beach-party-the-queer-afterparty-at-kaiserbruendl/
END:VEVENT
END:VCALENDAR