BEGIN:VCALENDAR
VERSION:2.0
PRODID:-//eventon.com NONSGML v1.0//EN
CALSCALE:GREGORIAN
METHOD:PUBLISH
BEGIN:VEVENT
UID:69ecb796e84a5
DTSTAMP:20260425T124614Z
DTSTART:20260514T120000Z
DTEND:20260514T215900Z
LOCATION:
SUMMARY:Eurovision Song Contest · 2. Halbfinale
DESCRIPTION:Wir übertragen live auf mehrere Bildschirme\nhttps://kaiserbru
 endl.at/events/eurovision-song-contest-%c2%b7-2-halbfinale/
URL:https://kaiserbruendl.at/events/eurovision-song-contest-%c2%b7-2-halbfinale/
END:VEVENT
END:VCALENDAR